Workbook

Sheet Contributi
A1: Voucher Lazio - Erogazione Contributi ASD - Anno 2025
A3: CODICE FISCALE ASD | B3: NOMINATIVO ASD | C3: Importo complessivo da erogare Tranche del 30.09.2025 | D3: Importo complessivo da erogare Tranche del 31.12.2025 | E3: Importo complessivo da erogare Tranche del 31.03.2026 | F3: Importo complessivo da erogare Tranche del 30.06.2026
A4: 95038790580 | B4: ASSOCIAZIONE SPORTIVA DILETTANTISTICA DANCE IN PROGRESS | C4: 0 | D4: 1620 | E4: 4140 | F4: 5520
A5: 11521311008 | B5: Professione Fitness SSD SRL | C5: 0 | D5: 2565 | E5: 3690 | F5: 3690
A6: 96426110589 | B6: #2.0 CENTRO AVVIAMENTO DANZA CLASSICA A.S. DILETTANTISTICA | C6: 0 | D6: 300 | E6: 900 | F6: 1020
A7: 97757010588 | B7: A. artistica didattica c. s. d. laltradanza | C7: 0 | D7: 2700 | E7: 6800 | F7: 2800
A8: 1013790595 | B8: A. DIL. BASKET ITRI | C8: 0 | D8: 2480 | E8: 5040 | F8: 6280
A9: 92095090608 | B9: A. S. Dilettantistica LC Training | C9: 50 | D9: 1150 | E9: 2500 | F9: 1800
A10: 9136911006 | B10: A.D. NEW NETTUNO BASKET CLUB | C10: 0 | D10: 3300 | E10: 6960 | F10: 6780
A11: 1358680567 | B11: A.D.P. REAL AZZURRA | C11: 0 | D11: 1880 | E11: 5145 | F11: 5325
A12: 90053700598 | B12: A.D.S. S.C. ARCIERI DI SANTO STEFANO | C12: 40 | D12: 360 | E12: 720 | F12: 760
A13: 7592821008 | B13: A.DIL. ALBANO BASKET CLUB | C13: 0 | D13: 990 | E13: 2970 | F13: 3190
A14: 90056550560 | B14: A.DIL. BASKET PEGASO | C14: 0 | D14: 2310 | E14: 4785 | F14: 5720
A15: 3121700607 | B15: A.M.B. FROSINONE C5 | C15: 0 | D15: 1000 | E15: 1000 | F15: 500
... A40: 6104041006 | B40: A.S.D. BASKET SAN CESAREO | C40: 0 | D40: 2520 | E40: 4160 | F40: 4520
A41: 96432450581 | B41: A.S.D. CASTELLI ROMANI CYCLING | C41: 0 | D41: 840 | E41: =1610+210 -> 1820 | F41: 1680
A42: 90081050586 | B42: A.S.D. CIAMPACAVALLO AI CASTELLI ONLUS | C42: 0 | D42: 830 | E42: 2620 | F42: 1250
A43: 91161230593 | B43: A.S.D. CIRCEO TEAM | C43: 0 | D43: 0 | E43: 2000 | F43: 0
A44: 90080240592 | B44: A.S.D. CITTA DI FORMIA CALCIO | C44: 0 | D44: 6480 | E44: 13500 | F44: 14700
A45: 97914990581 | B45: A.S.D. CROSSFIT4112 | C45: 0 | D45: 480 | E45: 1140 | F45: 1020
A46: 90125350562 | B46: A.S.D. CURA CALCIO | C46: 0 | D46: 2015 | E46: 3640 | F46: 2405
A47: 90069990597 | B47: A.S.D. DINAMO MINIBASKET ACADEMY | C47: 0 | D47: 2200 | E47: 3550 | F47: 4050
A48: 97735500585 | B48: A.S.D. DOLPHINS ANZIO BASEBALL | C48: 0 | D48: 180 | E48: 390 | F48: 360
A49: 97434300584 | B49: A.S.D. DON BOSCO NUOVO SALARIO | C49: 0 | D49: 3635 | E49: 10085 | F49: 14415
A50: 97752130589 | B50: A.S.D. e CULTURALE PER IL BENESSERE PSICOFISICO FATE E SAMURAI | C50: 0 | D50: 1480 | E50: 2360 | F50: 2440
A51: 91178240593 | B51: A.S.D. EDDI | C51: 35 | D51: 560 | E51: 805 | F51: 945
A52: 90140620569 | B52: A.S.D. EDEN 2.0 | C52: 0 | D52: 0 | E52: 0 | F52: 0
A53: 16781241001 | B53: A.S.D. F.C. GRIFONE SOCCER | C53: 0 | D53: 6238 | E53: 9827 | F53: 7450
... A86: 97414090585 | B86: A.S.DILETTANTISTICA CULTURALE RICREATIVA BUSHI FITNESS | C86: 0 | D86: 2100 | E86: 4440 | F86: 5520
A87: 12129281007 | B87: A.S.Dilettantistica Daily Sport | C87: 0 | D87: 4226 | E87: =8869+630 -> 9499 | F87: 4674
A88: 90060120590 | B88: A.S.DILETTANTISTICA DANCE GINNASTICA FIT | C88: 0 | D88: 2150 | E88: 4300 | F88: 5450
A89: 97847030588 | B89: A.S.DILETTANTISTICA DOG SCHOOL | C89: 0 | D89: 640 | E89: 800 | F89: 1120
A90: 91031950602 | B90: A.S.Dilettantistica EASY DRIVE | C90: 0 | D90: 0 | E90: 0 | F90: 3500
A91: 97787010582 | B91: A.S.DILETTANTISTICA EPOMEO ROMA | C91: 0 | D91: 2970 | E91: 4565 | F91: 5335
A92: 92071350604 | B92: A.S.DILETTANTISTICA FISIOGYM CLUB | C92: 0 | D92: 2800 | E92: 6200 | F92: 6700
A93: 96407310588 | B93: A.S.Dilettantistica Follis Roma | C93: 0 | D93: 210 | E93: 510 | F93: 540
A94: 90011040608 | B94: A.S.DILETTANTISTICA GYM PLANET CASSINO | C94: 0 | D94: 840 | E94: 1400 | F94: 1960
A95: 91109850593 | B95: A.S.Dilettantistica Il Tempio degli Atleti | C95: 0 | D95: 2750 | E95: 4000 | F95: 4450
A96: 91132490599 | B96: A.S.DILETTANTISTICA JUDO APRILIA | C96: 0 | D96: 630 | E96: 840 | F96: 700
A97: 90152750569 | B97: A.S.DILETTANTISTICA JUDO CIVITA CASTELLANA | C97: 0 | D97: 0 | E97: 1815 | F97: 1485
...

Sheet File Pagamenti 22
A1: PROGRESSIVO | B1: CODICE FISCALE ASD | C1: NOMINATIVO ASD | D1: Importo complessivo da erogare Tranche del 31.03.2026
A2: 84 | B2: 12129281007 | C2: A.S.Dilettantistica Daily Sport | D2: =8869+630 -> 9499
A3: 273 | B3: 93011890584 | C3: Associazione Sportiva Dilettantistica Stella Blu Zagarolo | D3: 2625
A4: 347 | B4: 5838551009 | C4: CENTRO SPORTIVO LE CUPOLE SSD A Responsabilità Limitata | D4: 20095
A5: 554 | B5: 17313661005 | C5: S.S.Dilettantistica E.L.F.F. Sporting s.r.l. | D5: 17145
A6: 1066 | B6: 15445901000 | C6: ASSOCIAZIONE SPORTIVA DILETTANTISTICA SURF BEAT ANZIO | D6: 375
A7: 1403 | B7: 13111631001 | C7: SS DILETTANTISTICA TC PARCO DEGLI ACQUEDOTTI R.L. | D7: 135
A8: 1484 | B8: 04355401003 | C8: TEVERE GOLF TIRRENIA SSD A R.L. | D8: 1000
A9: 1481 | B9: 02566250599 | C9: A.S.D. POLISPORTIVA GAETA | D9: 2250
D10: =SUM(D2:D9) -> 53124

Sheet File Pagamenti 1
A1: Voucher Lazio - Erogazione Contributi ASD
A3: PROGRESSIVO | B3: CODICE FISCALE ASD | C3: NOMINATIVO ASD | D3: Ottenimento DURC I Tranche | E3: Scadenza DURC | F3: Ottenimento Verifica Equitalia | G3: Importo complessivo da erogare Tranche del 31.12.2025
A4: 1 | B4: 95038790580 | C4: ASSOCIAZIONE SPORTIVA DILETTANTISTICA DANCE IN PROGRESS | D4: a | E4: Non Disponibile | F4: N/A | G4: 1620
A5: 2 | B5: 11521311008 | C5: Professione Fitness SSD SRL | D5: a | E5: 46112 | F5: N/A | G5: 2565
A6: 3 | B6: 96426110589 | C6: #2.0 CENTRO AVVIAMENTO DANZA CLASSICA A.S. DILETTANTISTICA | D6: a | E6: Non effettuabile | F6: N/A | G6: 300
A7: 4 | B7: 97757010588 | C7: A. artistica didattica c. s. d. laltradanza | D7: a | E7: 46112 | F7: N/A | G7: 2700
A8: 5 | B8: 1013790595 | C8: A. DIL. BASKET ITRI | D8: a | E8: Non effettuabile | F8: N/A | G8: 2480
A9: 6 | B9: 92095090608 | C9: A. S. Dilettantistica LC Training | D9: a | E9: Non effettuabile | F9: N/A | G9: 1150
A10: 7 | B10: 9136911006 | C10: A.D. NEW NETTUNO BASKET CLUB | D10: a | E10: Non effettuabile | F10: N/A | G10: 3300
A11: 8 | B11: 1358680567 | C11: A.D.P. REAL AZZURRA | D11: a | E11: 46112 | F11: N/A | G11: 1880
A12: 9 | B12: 90053700598 | C12: A.D.S. S.C. ARCIERI DI SANTO STEFANO | D12: a | E12: Non effettuabile | F12: N/A | G12: 360
A13: 10 | B13: 7592821008 | C13: A.DIL. ALBANO BASKET CLUB | D13: a | E13: 46022 | F13: N/A | G13: 990
A14: 11 | B14: 90056550560 | C14: A.DIL. BASKET PEGASO | D14: a | E14: Non effettuabile | F14: N/A | G14: 2310
A15: 12 | B15: 3121700607 | C15: A.M.B. FROSINONE C5 | D15: a | E15: Non effettuabile | F15: N/A | G15: 1000
A16: 13 | B16: 96368830582 | C16: A.S. DILETTANTISTICA POPOLARE S. LORENZO | D16: a | E16: 46049 | F16: N/A | G16: 855
A17: 14 | B17: 96145390587 | C17: A.S. DILETTANTISTICA BANZAI CORTINA ROMA | D17: a | E17: 46022 | F17: N/A | G17: 3300
A18: 15 | B18: 91029980603 | C18: A.S. DILETTANTISTICA FISIO & FITNESS - HIP HOP ACADEMY | D18: a | E18: Non effettuabile | F18: N/A | G18: 3400
A19: 16 | B19: 96497420586 | C19: A.S. DILETTANTISTICA KARATE DOJO ROMA | D19: a | E19: Non effettuabile | F19: N/A | G19: 825
A20: 17 | B20: 96430950582 | C20: A.S. Dilettantistica Lazio Roller Skate | D20: a | E20: Non effettuabile | F20: N/A | G20: 950
A21: 18 | B21: 97700800580 | C21: A.S. Dilettantistica New Era Accademy | D21: a | E21: Non effettuabile | F21: N/A | G21: 2300
A22: 19 | B22: 96534010580 | C22: A.S. Dilettantistica Numicus | D22: a | E22: Non effettuabile | F22: N/A | G22: 900
A23: 20 | B23: 92023020602 | C23: A.S. DILETTANTISTICA PLANET SPORT | D23: a | E23: 46022 | F23: N/A | G23: 1800
A24: 22 | B24: 97297410587 | C24: A.S. Dilettantistica STELLA BLU PATTINAGGIO ARTISTICO | D24: a | E24: Non effettuabile | F24: N/A | G24: 440
A25: 23 | B25: 96529350587 | C25: A.S. DILETTANTISTICA STEP UP | D25: a | E25: Non effettuabile | F25: N/A | G25: 1050
A26: 24 | B26: 94092290587 | C26: A.S. DILETTANTISTICA TEAM MADE | D26: a | E26: Non effettuabile | F26: N/A | G26: 1700
A27: 25 | B27: 95020260584 | C27: A.S. Dilettantistica Tennistavolo Mitici Colleferro | D27: a | E27: Non effettuabile | F27: N/A | G27: 350
A28: 26 | B28: 91005010581 | C28: A.S. VOLLEY ALLUMIERE ASSOCIAZIONE " DILETTANTISTICA " | D28: a | E28: Non effettuabile | F28: N/A | G28: 775
A29: 28 | B29: 91174430594 | C29: A.S.D SABAUDIA ATHLETIC CLUB | D29: a | E29: Non effettuabile | F29: N/A | G29: 480
A30: 30 | B30: 2752250601 | C30: A.S.D. ACUL CECCANO OMNIA | D30: a | E30: 46022 | F30: N/A | G30: 3825
A31: 31 | B31: 4534971009 | C31: A.S.D. ANZIO BASKET CLUB | D31: a | E31: 46099 | F31: N/A | G31: 4740
A32: 32 | B32: 93030410588 | C32: A.S.D. ATLETICA CAVE | D32: a | E32: Non effettuabile | F32: a | G32: 6000
A33: 33 | B33: 5575941009 | C33: A.S.D. BASKET ANGUILLARA | D33: a | E33: Non effettuabile | F33: N/A | G33: 3420
A34: 34 | B34: 90030850599 | C34: A.S.D. BASKET CASSINO | D34: a | E34: 46022 | F34: N/A | G34: 2340
A35: 35 | B35: 9675621008 | C35: A.S.D. BASKET CASTORO | D35: a | E35: Non effettuabile | F35: N/A | G35: 660
A36: 36 | B36: 91155680597 | C36: A.S.D. BASKET CIRCEO 2012 | D36: a | E36: Non effettuabile | F36: N/A | G36: 600
A37: 37 | B37: 6104041006 | C37: A.S.D. BASKET SAN CESAREO | D37: a | E37: Non effettuabile | F37: N/A | G37: 2520
A38: 38 | B38: 96432450581 | C38: A.S.D. CASTELLI ROMANI CYCLING | D38: a | E38: Non effettuabile | F38: N/A | G38: 840
A39: 39 | B39: 90081050586 | C39: A.S.D. CIAMPACAVALLO AI CASTELLI ONLUS | D39: a | E39: Non effettuabile | F39: N/A | G39: 830
A40: 41 | B40: 90080240592 | C40: A.S.D. CITTA DI FORMIA CALCIO | D40: a | E40: 46022 | F40: a | G40: 6480
A41: 42 | B41: 97914990581 | C41: A.S.D. CROSSFIT4112 | D41: a | E41: Non effettuabile | F41: N/A | G41: 480
...

Sheet File Pagamenti 2
A1: PROGRESSIVO | B1: CODICE FISCALE ASD | C1: NOMINATIVO ASD | D1: Importo complessivo da erogare Tranche del 31.12.2025
A2: 64 | B2: 6243191001 | C2: A.S.D. ROMA EUR | D2: 1008
A3: 90 | B3: 96407310588 | C3: A.S.Dilettantistica Follis Roma | D3: 210
A4: 146 | B4: 97716860586 | C4: AS DILETTANTISTICA DANCING CENTER | D4: 550
A5: 251 | B5: 16083751004 | C5: Associazione Sportiva Dilettantistica MARVEN GYM | D5: 3810
A6: 265 | B6: 97118140587 | C6: ASSOCIAZIONE SPORTIVA DILETTANTISTICA READY GO SPORT E CULTURA | D6: 872.5
A7: 361 | B7: 14568361001 | C7: CSAIN VELOCEMENTE ACADEMY | D7: 1485.05
A8: 408 | B8: 96021650583 | C8: G. CASTELLO | D8: 2200
A9: 422 | B9: 96604150589 | C9: HONEY FOOTBALL FRIENDS AS DILETTANTISTICA | D9: 1900
A10: 466 | B10: 91079530589 | C10: MARINA DI CERVETERI ASSOCIAZIONE SPORTIVA DILETTANTISTICA | D10: 400
A11: 475 | B11: 15751941004 | C11: MUNDIAL FOOTBALL CLUB S.S.DILETTANTISTICA arl | D11: 11270
A12: 478 | B12: 97615490584 | C12: NEA OSTIA RUGBY F.C. ASD | D12: 1330
A13: 592 | B13: 97978810584 | C13: SPORT LIFE AX#52 A.S.DILETTANTISTICA | D13: 720
... A34: 1435 | B34: 90080660575 | C34: TERMINILLO SKI ACADEMY ASSOCIAZIONE DILETTANTISTICA | D34: 0
A35: 1443 | B35: 97861480586 | C35: UNION REAL CASALETTO AS DILETTANTISTICA APS | D35: 900 | E35: IBAN ESTERO
D36: =SUM(D2:D35) -> 66290.85

Sheet File Pagamenti 3
A1: PROGRESSIVO | B1: CODICE FISCALE ASD | C1: NOMINATIVO ASD | D1: Importo complessivo da erogare Tranche del 30.09.2025 | E1: Importo complessivo da erogare Tranche del 31.12.2025
A2: 176 | B2: 97942900586 | C2: ASD RUGBY X ROMA 2017 | D2: 4000 | E2: 300
A3: 188 | B3: 97752020582 | C3: ASDILETTANTISTICA ARTE IN MOVIMENTO | D3: 0 | E3: 2975
A4: 209 | B4: 11366771001 | C4: ASSOCIAZIONE SPORTIVA DILETTANTISTICA ACCADEMIA DEL NUOTO-MARINO | D4: 0 | E4: 10120
A5: 467 | B5: 9038321007 | C5: MATRIX SOCIETA SPORTIVA DILETTANTISTICA | D5: 0 | E5: 9344
A6: 544 | B6: 2505140596 | C6: RUGBY CLUB LATINA ASD | D6: 0 | E6: 1845
A7: 610 | B7: 2082420569 | C7: SSD REAL FABRICA DI ROMA ARL | D7: 0 | E7: 250
A8: 663 | B8: 11596951001 | C8: WELLNESS CLUB S.S.DILETTANTISTICA A.R.L. | D8: 0 | E8: 1365
A9: 687 | B9: 97503060580 | C9: A.DILETTANTISTICA ROLLER ART | D9: 0 | E9: 1260
A10: 731 | B10: 97665910580 | C10: A.S.D. CENTRO EQUESTRE HORSE CLUB PIGNATELLI | D10: 0 | E10: 1350
A11: 1034 | B11: 91177390597 | C11: ASSOCIAZIONE SPORTIVA DILETTANTISTICA OLIVA FIGHT ACADEMY | D11: 0 | E11: 50
A12: 1114 | B12: 17717631000 | C12: CANOA CLUB CORTE DEI CONTI A.S.D. | D12: 0 | E12: 800
A13: 1180 | B13: 1255450577 | C13: FLEX ZONE S.S.DILETTANTISTICA ARL | D13: 0 | E13: 110
... A21: 1464 | B21: 17739311003 | C21: YOU CAN DANCE SSD ARL | D21: 0 | E21: 1170
D22: =SUM(D2:D21) -> 4000 | E22: =SUM(E2:E21) -> 47009

Sheet File Pagamenti 4
A1: PROGRESSIVO | B1: CODICE FISCALE ASD | C1: NOMINATIVO ASD | D1: Importo complessivo da erogare Tranche del 31.12.2025
A2: 79 | B2: 96301750582 | C2: A.S.Dilettantistica Atletico Talenti | D2: 2030
A3: 553 | B3: 4337401006 | C3: S.S.DILETTANTISTICA CASTELLI ROMANI A R.L. | D3: 6500
A4: 855 | B4: 96446930586 | C4: AS DILETTANTISTICA ACCADEMIA SPORTS ROMA | D4: 150
A5: 1461 | B5: 4725041000 | C5: VOLLEYBALL SANTA MONICA A.S.DILETTANTISTICA | D5: 3984
D6: =SUM(D2:D5) -> 12664

Sheet File Pagamenti 5
A1: PROGRESSIVO | B1: CODICE FISCALE ASD | C1: NOMINATIVO ASD | D1: Importo complessivo da erogare Tranche del 31.12.2025
A2: 1119 | B2: 97759540582 | C2: CDP LA FENICE PALLAVOLO ASSOCIAZIONE SPORTIVA DILETTANTISTICA | D2: 16000
D3: =SUM(D2:D2) -> 16000

Sheet File Pagamenti 6-9
A1: PROGRESSIVO | B1: CODICE FISCALE ASD | C1: NOMINATIVO ASD | D1: Importo complessivo da erogare Tranche del 31.12.2025
A2: 139 | B2: 6202711005 | C2: ANZIO CALCIO 1924 | D2: 10050
A3: 747 | B3: 4173621006 | C3: A.S.D. POL. PETRIANA | D3: 1840
A4: 1233 | B4: 97907470583 | C4: JU-JITSU BUDOKWAI A.S.DILETTANTISTICA | D4: 360
A5: 374 | B5: 5033591008 | C5: EMMECI SPORT SSD A R.L. | D5: 6726
A6: 910 | B6: 97896520588 | C6: ASD O.BALLET | D6: 1980
D7: =SUM(D2:D6) -> 20956

Sheet File Pagamenti 10
A1: PROGRESSIVO | B1: CODICE FISCALE ASD | C1: NOMINATIVO ASD | D1: Importo complessivo da erogare Tranche del 31.12.2025
A2: 129 | B2: 2090180569 | C2: ACTIVE SPACE S.S.DILETTANTISTICA SRL | D2: 950
A3: 1429 | B3: 2404090561 | C3: TARQUINIA SWIMMING & FITNESS CLUB SSD ARL | D3: 2165
D4: =SUM(D2:D3) -> 3115

Sheet File Pagamenti 11
A1: PROGRESSIVO | B1: CODICE FISCALE ASD | C1: NOMINATIVO ASD | D1: Importo complessivo da erogare Tranche del 31.12.2025
A2: 77 | B2: 91101630597 | C2: A.S.Dilettantistica ANXUR - TERRACINA | D2: 28560
A3: 347 | B3: 5838551009 | C3: CENTRO SPORTIVO LE CUPOLE SSD A Responsabilità Limitata | D3: 10070
A4: 1310 | B4: 15331641009 | C4: POMEZIA CALCIO 1957 | D4: 5580
A5: 1325 | B5: 10659671001 | C5: ROCCA PRIORA RDP CALCIO | D5: 9000
D6: =SUM(D2:D5) -> 53210

Sheet File Pagamenti 12
A1: PROGRESSIVO | B1: CODICE FISCALE ASD | C1: NOMINATIVO ASD | D1: Importo complessivo da erogare Tranche del 31.12.2025
A2: 29 | B2: 97852040589 | C2: A.S.D. ACADEMY GRIFONE | D2: 6059
D3: =SUM(D2:D2) -> 6059

Sheet Check IBAN Primo Flusso
A1: CODICE FISCALE / P. IVA | B1: PROGESSIVO | C1: NOME ASD | D1: IBAN | E1: DATA VERIFICA | F1: ORA VERIFICA | G1: ESITO
A2: 11521311008 | B2: 2 | C2: Professione Fitness SSD SRL | D2: IT92R0869338890000000510225 | E2: 46093 | F2: 09:55 | G2: Banca non aderente al servizio
A3: 97757010588 | B3: 4 | C3: A. artistica didattica c. s. d. laltradanza | D3: IT03O0312403202000000233371 | E3: 46093 | F3: 09:55 | G3: Banca non aderente al servizio
A4: 03121700607 | B4: 12 | C4: A.M.B. FROSINONE C5 | D4: IT47T0529714801CC1030075020 | E4: 46093 | F4: 09:55 | G4: Banca non aderente al servizio
A5: 96497420586 | B5: 16 | C5: A.S. DILETTANTISTICA KARATE DOJO ROMA | D5: IT97R0503403279000000007637 | E5: 46093 | F5: 09:55 | G5: Non associato
A6: 90030850599 | B6: 34 | C6: A.S.D. BASKET CASSINO | D6: IT09X0529774370CC1080022546 | E6: 46093 | F6: 09:55 | G6: Banca non aderente al servizio
A7: 90081050586 | B7: 39 | C7: A.S.D. CIAMPACAVALLO AI CASTELLI ONLUS | D7: IT61H0895139130000000352168 | E7: 46093 | F7: 09:55 | G7: Banca non aderente al servizio
A8: 90069990597 | B8: 44 | C8: A.S.D. DINAMO MINIBASKET ACADEMY | D8: IT64R0529673970CC0000020779 | E8: 46093 | F8: 09:55 | G8: Banca non aderente al servizio
A9: 97735500585 | B9: 45 | C9: A.S.D. DOLPHINS ANZIO BASEBALL | D9: IT96V0869338890000000515388 | E9: 46093 | F9: 09:55 | G9: Banca non aderente al servizio
A10: 96605000585 | B10: 57 | C10: A.S.D. MENTANA | D10: IT35I0622039190000001001439 | E10: 46093 | F10: 09:56 | G10: Banca non aderente al servizio
A11: 02339850592 | B11: 75 | C11: A.S.DIL. BULL BASKET | D11: IT03Z0344114702CC0210521525 | E11: 46093 | F11: 09:56 | G11: Banca non aderente al servizio
A12: 94079960582 | B12: 80 | C12: A.S.DILETTANTISTICA BELIEVE FITNESS 2.0 | D12: IT96B0542439450000001000401 | E12: 46093 | F12: 09:56 | G12: Banca non aderente al servizio
A13: 96407310588 | B13: 90 | C13: A.S.Dilettantistica Follis Roma | D13: IT08C0503403304000000003514 | E13: 46093 | F13: 09:56 | G13: Non associato
... A183: 96421560580 | B183: 1501 | C183: Tsunami Surfing School A.S.Dilettantistica | D183: IT92P0200805294000421055656 | E183: 46093 | F183: 10:21 | G183: Non associato

Sheet File Pagamenti 13
A1: PROGRESSIVO | B1: CODICE FISCALE ASD | C1: NOMINATIVO ASD | D1: Importo complessivo da erogare Tranche del 31.03.2026
A2: 1 | B2: 95038790580 | C2: ASSOCIAZIONE SPORTIVA DILETTANTISTICA DANCE IN PROGRESS | D2: 4140
A3: 3 | B3: 96426110589 | C3: #2.0 CENTRO AVVIAMENTO DANZA CLASSICA A.S. DILETTANTISTICA | D3: 900
A4: 4 | B4: 97757010588 | C4: A. artistica didattica c. s. d. laltradanza | D4: 6800
A5: 5 | B5: 1013790595 | C5: A. DIL. BASKET ITRI | D5: 5040
A6: 6 | B6: 92095090608 | C6: A. S. Dilettantistica LC Training | D6: 2500
A7: 8 | B7: 1358680567 | C7: A.D.P. REAL AZZURRA | D7: 5145
A8: 9 | B8: 90053700598 | C8: A.D.S. S.C. ARCIERI DI SANTO STEFANO | D8: 720
A9: 10 | B9: 7592821008 | C9: A.DIL. ALBANO BASKET CLUB | D9: 2970
A10: 11 | B10: 90056550560 | C10: A.DIL. BASKET PEGASO | D10: 4785
A11: 12 | B11: 3121700607 | C11: A.M.B. FROSINONE C5 | D11: 1000
A12: 13 | B12: 96368830582 | C12: A.S. DILETTANTISTICA POPOLARE S. LORENZO | D12: 1845
A13: 14 | B13: 96145390587 | C13: A.S. DILETTANTISTICA BANZAI CORTINA ROMA | D13: 6240
... A34: 37 | B34: 6104041006 | C34: A.S.D. BASKET SAN CESAREO | D34: 4160
A35: 38 | B35: 96432450581 | C35: A.S.D. CASTELLI ROMANI CYCLING | D35: =1610+210 -> 1820
A36: 39 | B36: 90081050586 | C36: A.S.D. CIAMPACAVALLO AI CASTELLI ONLUS | D36: 2620
A37: 41 | B37: 90080240592 | C37: A.S.D. CITTA DI FORMIA CALCIO | D37: 13500
A38: 42 | B38: 97914990581 | C38: A.S.D. CROSSFIT4112 | D38: 1140
A39: 43 | B39: 90125350562 | C39: A.S.D. CURA CALCIO | D39: 3640
A40: 44 | B40: 90069990597 | C40: A.S.D. DINAMO MINIBASKET ACADEMY | D40: 3550
A41: 45 | B41: 97735500585 | C41: A.S.D. DOLPHINS ANZIO BASEBALL | D41: 390
A42: 46 | B42: 97434300584 | C42: A.S.D. DON BOSCO NUOVO SALARIO | D42: 10085
A43: 47 | B43: 97752130589 | C43: A.S.D. e CULTURALE PER IL BENESSERE PSICOFISICO FATE E SAMURAI | D43: 2360
A44: 48 | B44: 91178240593 | C44: A.S.D. EDDI | D44: 805
A45: 50 | B45: 16781241001 | C45: A.S.D. F.C. GRIFONE SOCCER | D45: 9827
A46: 51 | B46: 3164590600 | C46: A.S.D. FD ACCADEMIA CALCIO | D46: 2520
A47: 53 | B47: 97800230589 | C47: A.S.D. GIOCHIAMOLA SEMPRE | D47: 11250
... A90: 102 | B90: 92080350603 | C90: A.S.Dilettantistica New Studio 3 | D90: 5550
A91: 104 | B91: 96567270580 | C91: A.S.DILETTANTISTICA OLIMPO SPORTING CLUB | D91: =3660+180 -> 3840
A92: 105 | B92: 90081020571 | C92: A.S.Dilettantistica Polisportiva LArdiglione | D92: 1400
A93: 106 | B93: 96135330585 | C93: A.S.Dilettantistica Roma Otto Team | D93: 500
A94: 107 | B94: 97792880581 | C94: A.S.DILETTANTISTICA SHIAI CLUB | D94: 1200
A95: 108 | B95: 97828590584 | C95: A.S.Dilettantistica SPORT DREAM and POWER | D95: 2380
A96: 109 | B96: 92097020603 | C96: A.S.DILETTANTISTICA STUDIO CROSS TRAINING 2.0 | D96: 1700
A97: 111 | B97: 90071150594 | C97: A.S.Dilettantistica Team Polidoro | D97: 2000
A98: 112 | B98: 2343980591 | C98: A.S.DILETTANTISTICA TOMARI-TE | D98: 6880
A99: 113 | B99: 16606981005 | C99: A.S.DILETTANTISTICA TRUST | D99: 8855
A100: 114 | B100: 95025070582 | C100: A.S.Dilettantistica Virtus Montefortino | D100: 630
A101: 115 | B101: 97479610582 | C101: A.S.DILETTANTISTICA VIRTUS TRIGORIA | D101: 4349
A102: 116 | B102: 91076460582 | C102: A.S.Dilettantistica Volley Academy Civitavecchia | D102: 4680
...

Sheet File Pagamenti 14
A1: PROGRESSIVO | B1: CODICE FISCALE ASD | C1: NOMINATIVO ASD | D1: Importo complessivo da erogare Tranche del 31.03.2026
A2: 378 | B2: 97406770582 | C2: ENTE DEL TERZO SETTORE E ASSOCIAZIONE SPORTIVA DILETTANTISTICA FUSOLAB APS E ASD | D2: 177510
A3: 382 | B3: 12856641001 | C3: Eschilo 2 Sport In Progress S.S.Dilettantistica A R.L. | D3: 29103
A4: 386 | B4: 97028810584 | C4: EUROPA CIAMPINO ASSOCIAZIONE SPORTIVA DILETTANTISTICA | D4: 6150
A5: 387 | B5: 91154910599 | C5: EVOLUTION DANCE STUDIO ASSOCIAZIONE SPORTIVA DILETTANTISTICA | D5: 10320
A6: 388 | B6: 10698371001 | C6: EZIO SELLA ACADEMY | D6: 8745
A7: 393 | B7: 13631011007 | C7: FIN PLUS OSTIA SOCIETA SPORTIVA DILETTANTISTICA A r.l. | D7: 8990
A8: 401 | B8: 2948200593 | C8: FONDI CALCIO | D8: 15678
A9: 403 | B9: 96523840583 | C9: FORMELLO SPORT E RELAX ASD | D9: 6560
A10: 413 | B10: 97845180583 | C10: GORILLA | D10: 9403
A11: 414 | B11: 11524721005 | C11: GRIFONE CALCIO | D11: 18416
A12: 418 | B12: 17853481004 | C12: HARMONY CLUB Societa Sportiva Dilettantistica a responsabilità limitata | D12: 12945
A13: 422 | B13: 96604150589 | C13: HONEY FOOTBALL FRIENDS AS DILETTANTISTICA | D13: 6400
... A55: 557 | B55: 96431560588 | C55: S.S.DILETTANTISTICA FUTURA FITNESS a R.L. | D55: 7540
A56: 560 | B56: 2721220594 | C56: S.S.Dilettantistica SENSAZIONE FITNESS ARL | D56: =10015+570 -> 10585
A57: 562 | B57: 17954901009 | C57: S.S.DILETTANTISTICA SPORT CLUB LODI A.R.L. | D57: 5925
A58: 564 | B58: 11457141007 | C58: S.S.DILETTANTISTICA VITA - SRL | D58: =7260+180 -> 7440
A59: 567 | B59: 96158000586 | C59: SACRO CUORE ASSOCIAZIONE SPORTIVA DILETTANTISTICA | D59: 5700
A60: 572 | B60: 96228940589 | C60: SAXA RUBRA ASSOCIAZIONE SPORTIVA DILETTANTISTICA | D60: 6800
A61: 577 | B61: 96245140585 | C61: SIRIO SOCIETA SPORTIVA DILETTANTISTICA | D61: 5880
A62: 582 | B62: 8843441000 | C62: SOCIETA SPORTIVA DILETTANTISTICA 3 SPORT A RESPONSABILITA LIMITATA | D62: 6195
A63: 583 | B63: 2008320562 | C63: Società Sportiva Dilettantistica Inside Gym S.R.L. | D63: 5050
A64: 585 | B64: 2014870568 | C64: SOCIETÀ SPORTIVA DILETTANTISTICA ORIZZONTE BLU S.R.L | D64: 11060
A65: 590 | B65: 90049410609 | C65: SPORT ACADEMY ASD DILETTANTISTICA | D65: 5980
A66: 594 | B66: 7200281009 | C66: SPORT TEAM 2000 SOCIETA SPORTIVA DILETTANTISTICA | D66: 25463
A67: 596 | B67: 1671620605 | C67: SPORTFLY SOC.SPORTIVA DILETT. ARL | D67: 30200
A68: 598 | B68: 2667850602 | C68: SPORTING HEALTH CLUB S.S.DILETTANTISTICA ARL | D68: 7750
A69: 600 | B69: 12044091002 | C69: SPORTING SAN CESAREO | D69: 7800
A70: 605 | B70: 91018600592 | C70: SS. PIETRO E PAOLO | D70: 7000
... A169: 1345 | B169: 2039980566 | C169: S.S.DILETTANTISTICA LA VILLA SPORTING CLUB S.R.L | D169: 5329
A170: 1358 | B170: 14879211002 | C170: SCUOLA DEI LEONI | D170: =8515+195 -> 8710
A171: 1363 | B171: 97075740585 | C171: SEMPIONE ASSOCIAZIONE DILETTANTISTICA POLISPORTIVA | D171: 10944
A172: 1377 | B172: 10252101000 | C172: SOCIETA SPORTIVA DILETTANTISTICA NUOVA CAGIS SRL | D172: 14310
A173: 1380 | B173: 11447541001 | C173: Società Sportiva Dilettantistica Sport Academy Valle Dei Casali A Responsabilità Limitata | D173: 10530
A174: 1383 | B174: 17620691000 | C174: SPORT & MIND S.S.DILETTANTISTICA A.R.L | D174: 9300
A175: 1384 | B175: 7595831004 | C175: SPORT 2000 SSD ARL | D175: 15066
A176: 1391 | B176: 16819521002 | C176: SPORTING NUOTO LAURENTINO SOCIETA SPORTIVA DILETTANTISTICA A RESPONSABILITA LIMITATA | D176: 5760
A177: 1400 | B177: 8491680586 | C177: SS DILETTANTISTICA OLIMPIA 1 ARL | D177: 1885
A178: 1405 | B178: 97074770583 | C178: SSD ALGARVE ROMA TORRINO SRL | D178: 12200
A179: 1409 | B179: 17151481003 | C179: SSD THE VOLUME A.R.L. | D179: 22680
...

Sheet File Pagamenti 15
A1: PROGRESSIVO | B1: CODICE FISCALE ASD | C1: NOMINATIVO ASD | D1: Importo complessivo da erogare Tranche del 31.12.2025
A2: 744 | B2: 97274550587 | C2: A.S.D. NUOTO VELA | D2: 5460
A3: 985 | B3: 97070910589 | C3: Associazione Sportiva Dilettantistica Centro Cultura Fisica Balduina | D3: 1185
A4: 1192 | B4: 11680661003 | C4: Ginnastica Civitavecchia Società Sportiva Dilettantistica A.R.L. | D4: 9895
A5: 1209 | B5: 90112590568 | C5: GYMMWELL ASSOCIAZIONE SPORTIVA DILETTANTISTICA | D5: 400
A6: 1251 | B6: 10042361005 | C6: LUPATELLI TENNIS ACADEMY AS DILETTANTISTICA | D6: 450
A7: 1371 | B7: 10218251006 | C7: SOCIETA SPORTIVA DILETTANTISTICA FREETIME SPORTING CLUB S.R.L. | D7: 275
A8: 1131 | B8: 91125440593 | C8: CISTERNA RUGBY ASD | D8: 480
A9: 1176 | B9: 16816901009 | C9: FITLAND S.S.DILETTANTISTICA A R.L. | D9: 130
A10: 1400 | B10: 8491680586 | C10: SS DILETTANTISTICA OLIMPIA 1 ARL | D10: 130
D11: =SUM(D2:D10) -> 18405

Sheet File Pagamenti 16
A1: PROGRESSIVO | B1: CODICE FISCALE ASD | C1: NOMINATIVO ASD | D1: Importo complessivo da erogare Tranche del 31.03.2026
A2: 2 | B2: 11521311008 | C2: Professione Fitness SSD SRL | D2: 3690
A3: 40 | B3: 91161230593 | C3: A.S.D. CIRCEO TEAM | D3: 2000
A4: 75 | B4: 2339850592 | C4: A.S.DIL. BULL BASKET | D4: 2015
A5: 103 | B5: 90027700591 | C5: A.S.DILETTANTISTICA OLIMPIC MARINA | D5: 4650
A6: 135 | B6: 16462121001 | C6: ALTERO BOXE SOCIETA SPORTIVA DILETTANTISTICA A R.L. | D6: 1500
A7: 147 | B7: 91028390606 | C7: AS DILETTANTISTICA FASHION DANCE | D7: 1200
A8: 192 | B8: 92000380581 | C8: ASDILETTANTISTICA FRASCATI SCHERMA | D8: 2000
A9: 219 | B9: 95053870580 | C9: ASSOCIAZIONE SPORTIVA DILETTANTISTICA ATLETICO CALCIO VALMONTONE 1921 | D9: 5180
A10: 244 | B10: 95003350584 | C10: Associazione Sportiva Dilettantistica Ginnastica Valmontone | D10: 13350
A11: 245 | B11: 95011080587 | C11: Associazione Sportiva Dilettantistica GR Xistos | D11: 8000
A12: 278 | B12: 90066260598 | C12: ASSOCIAZIONE SPORTIVA DILETTANTISTICA THE HORSE VILLAGE RAINO | D12: 1440
A13: 303 | B13: 95051280584 | C13: ATLETICO LARIANO | D13: 4000
... A66: 1382 | B66: 2843720604 | C66: SPORT & FITNESS S.S. DILETTANTISTICA SRL | D66: 14550
A67: 1443 | B67: 97861480586 | C67: UNION REAL CASALETTO AS DILETTANTISTICA APS | D67: 3360 | E67: IBAN ESTERO
A68: 1501 | B68: 96421560580 | C68: Tsunami Surfing School A.S.Dilettantistica | D68: 500
A69: 210 | B69: 94061250588 | C69: ASSOCIAZIONE SPORTIVA DILETTANTISTICA COLOSSEUM SPORTING CLUB | D69: 495
A70: 323 | B70: 97896230584 | C70: BUTTERFLY DANCE TO BE A.S.DILETTANTISTICA | D70: 4075
A71: 919 | B71: 15622181004 | C71: ASD PONY CLUB HOLLY TREE | D71: 400
D72: =SUM(D2:D71) -> 358821.59

Sheet File Pagamenti 17
A1: PROGRESSIVO | B1: CODICE FISCALE ASD | C1: NOMINATIVO ASD | D1: Importo complessivo da erogare Tranche del 31.12.2025
A2: 323 | B2: 97896230584 | C2: BUTTERFLY DANCE TO BE A.S.DILETTANTISTICA | D2: 1740
A3: 919 | B3: 15622181004 | C3: ASD PONY CLUB HOLLY TREE | D3: 2000
D4: =SUM(D2:D3) -> 3740

Sheet File Pagamenti 18
A1: PROGRESSIVO | B1: CODICE FISCALE ASD | C1: NOMINATIVO ASD | D1: Importo complessivo da erogare Tranche del 31.03.2026
A2: 124 | B2: 16920101009 | C2: ACCADEMIA DELLO SPORT L`ARCO S.S.D. A R.L. | D2: 11720
A3: 202 | B3: 11468081002 | C3: ASSOCIAZIONE 238 - ASSOCIAZIONE SPORTIVA DILETTANTISTICA | D3: 3320
A4: 223 | B4: 90082640583 | C4: ASSOCIAZIONE SPORTIVA DILETTANTISTICA BASKETBALL CLUB MARINO LIONS | D4: 6420
A5: 342 | B5: 97094350580 | C5: Centro Ippico La Giara ASD | D5: 6600
A6: 394 | B6: 9090771008 | C6: FIN PLUS SOCIETA SPORTIVA DILETTANTISTICA | D6: 12586
A7: 398 | B7: 3170420602 | C7: FITNESS ACADEMY Società Sportiva Dilettantistica a r.l. | D7: 11000
A8: 421 | B8: 80006480596 | C8: HERMADA | D8: 6780
A9: 436 | B9: 16558211005 | C9: JUVENIA GYMNASTIC SOCIETA SPORTIVA DILETTANTISTICA A R.L. | D9: 16858
A10: 437 | B10: 97112200585 | C10: JUVENTUS NUOTO ROMA A.R.L SOCIETA SPORTIVA DILETTANTISTICA | D10: 7936
A11: 469 | B11: 97723790586 | C11: MELAZZA RANCH ASSOCIAZIONE SPORTIVA DILETTANTISTICA | D11: 3600
A12: 546 | B12: 17038231001 | C12: S. S. DILETTANTISTICA GHIACCIO MEZZALUNA A R.L | D12: 5185
A13: 558 | B13: 14323121005 | C13: S.S.DILETTANTISTICA GYM TONIC A R.L. | D13: 1190
... A20: 1195 | B20: 15237441009 | C20: GMG S.S.Dilettantistica ar.l. | D20: 600
D21: =SUM(D2:D20) -> 130120

Sheet File Pagamenti 19
A1: PROGRESSIVO | B1: CODICE FISCALE ASD | C1: NOMINATIVO ASD | D1: Importo complessivo da erogare Tranche del 31.12.2025
A2: 1330 | B2: 97488310588 | C2: ROSE VOLLEY ROMA | D2: 42
D3: =SUM(D2:D2) -> 42

Sheet File Pagamenti 20
A1: PROGRESSIVO | B1: CODICE FISCALE ASD | C1: NOMINATIVO ASD | D1: Importo complessivo da erogare Tranche del 31.03.2026
A2: 60 | B2: 97460770585 | C2: A.S.D. Ponte di Nona | D2: 1245
A3: 67 | B3: 8464451007 | C3: A.S.D. SKATING CLUB VELLETRI | D3: 3700
A4: 197 | B4: 92039260580 | C4: ASDILETTANTISTICA MODART DANCE STUDIO | D4: 5040
A5: 282 | B5: 97389070588 | C5: Associazione sportiva dilettantistica Universo Danza | D5: 18200
A6: 288 | B6: 11989421000 | C6: ASSOCIAZIONE SPORTIVA DILETTANTISTICA VOLLEY FRIENDS ROMA | D6: 3850
A7: 318 | B7: 4559031002 | C7: BOREALE | D7: 7200
A8: 592 | B8: 97978810584 | C8: SPORT LIFE AX#52 A.S.DILETTANTISTICA | D8: 780
A9: 764 | B9: 5842461005 | C9: A.S.DIL. NOMEN ANGELS | D9: 840
A10: 811 | B10: 96453990580 | C10: A.S.DILETTANTISTICA POLISPORTIVA MAGICA | D10: 1150
A11: 973 | B11: 96461190587 | C11: ASSOCIAZIONE SPORTIVA DILETTANTISTICA ARTIS GYM EUR | D11: 8524.92
A12: 1413 | B12: 15377961006 | C12: SSDILETTANTISTICA ONEWAY SPORTS SSD A R.L. | D12: 2860
D13: =SUM(D2:D12) -> 53389.92

Sheet File Pagamenti 21
A1: PROGRESSIVO | B1: CODICE FISCALE ASD | C1: NOMINATIVO ASD | D1: Importo complessivo da erogare Tranche del 31.03.2026
A2: 365 | B2: 93022950583 | C2: DEA 2.2 Società Sportiva Dilettantistica A R L | D2: 3600
A3: 487 | B3: 6321121003 | C3: OCTOPUS SOCIETA SPORTIVA DILETTANTISTICA A RESPONSABILITA LIMITATA | D3: 16678
A4: 1101 | B4: 11826581008 | C4: BEACH VOLLEY ACADEMY S.S.DILETTANTISTICA A R.L. | D4: 5940
A5: 1370 | B5: 97032890580 | C5: Società Ginnico Sportiva Dilettantistica Eur a responsabilità limitata | D5: 7210
A6: 1432 | B6: 91183510592 | C6: ASD Sardegna Tennis Academy | D6: 840
A7: 1453 | B7: 90011320596 | C7: VIRTUS LENOLA | D7: 2280
D8: =SUM(D2:D7) -> 36548

Sheet File Pagamenti 23
A1: PROGRESSIVO | B1: CODICE FISCALE ASD | C1: NOMINATIVO ASD | D1: Importo complessivo da erogare Tranche del 31.12.2025
A2: 84 | B2: 12129281007 | C2: A.S.Dilettantistica Daily Sport | D2: 4226
D3: =SUM(D2:D2) -> 4226

Sheet File Pagamenti 24
A1: PROGRESSIVO | B1: CODICE FISCALE ASD | C1: NOMINATIVO ASD | D1: Importo complessivo da erogare Tranche del 31.03.2026
A2: 200 | B2: 90068980599 | C2: ASDILETTANTISTICA POLISPORTIVA ESKHARA BALLET ACADEMY | D2: 2320
A3: 304 | B3: 97894980586 | C3: ATLETICO TORRENOVA 1986 | D3: 11690
A4: 539 | B4: 97608020588 | C4: ROMA TEAM UP SSD | D4: 14500
A5: 630 | B5: 13096661007 | C5: TIBURTIX S.S.D. a R.L. | D5: 1750
A6: 784 | B6: 95043520584 | C6: A.S.DILETTANTISTICA EXE | D6: 2475
A7: 963 | B7: 5074210583 | C7: Associazione Sportiva Dilettantistica ROMA 12 | D7: 25784
A8: 1005 | B8: 90096990578 | C8: ASSOCIAZIONE SPORTIVA DILETTANTISTICA FIGHT LAB | D8: 300
A9: 1314 | B9: 10585071003 | C9: PRO CALCIO TOR SAPIENZA | D9: 7700
D10: =SUM(D2:D9) -> 66519

Sheet File Pagamenti 25
A1: PROGRESSIVO | B1: CODICE FISCALE ASD | C1: NOMINATIVO ASD | D1: Importo complessivo da erogare Tranche del 31.03.2026
A2: 653 | B2: 11061271000 | C2: VILLA YORK SPORTING CLUB SOCIETA SPORTIVA DILETTANTISTICA S.R.L. | D2: 29965
A3: 818 | B3: 97991830585 | C3: A.S.DILETTANTISTICA SHINSEI CLUB TRIGORIA | D3: 2330
A4: 942 | B4: 90070160594 | C4: ASDILETTANTISTICA POLISPORTIVA MARINA CENTRO SPORTING CLUB | D4: 780
A5: 1416 | B5: 15912241005 | C5: SSDILETTANTISTICA VIS | D5: 1258.18
D6: =SUM(D2:D5) -> 34333.18

Sheet File Pagamenti 26
A1: PROGRESSIVO | B1: CODICE FISCALE ASD | C1: NOMINATIVO ASD | D1: Importo complessivo da erogare Tranche del 31.03.2026
A2: 143 | B2: 10003221008 | C2: ARVALIA SWIMMING & FITNESS CLUB AR.L. SSD | D2: 3465
A3: 390 | B3: 2003710593 | C3: F.C.D. MONTE SAN BIAGIO ASSOCIAZIONE SPORTIVA DILETTANTISTICA | D3: 5885
D4: =SUM(D2:D3) -> 9350

Sheet File Pagamenti 27
A1: PROGRESSIVO | B1: CODICE FISCALE ASD | C1: NOMINATIVO ASD | D1: Importo complessivo da erogare Tranche del 31.03.2026
A2: 399 | B2: 14039201000 | C2: FITNESS SPORTING CLUB 2016 S.S.D. a R.L. | D2: 5680
A3: 651 | B3: 5825151003 | C3: VILLA ADRIANA | D3: 7260
A4: 1183 | B4: 4781441003 | C4: FRASCATI VOLLEY CLUB SSD A RL | D4: 5760
A5: 1203 | B5: 14425071009 | C5: GSPORT S.S.DILETTANTISTICA A R.L. | D5: 5489
A6: 1310 | B6: 15331641009 | C6: POMEZIA CALCIO 1957 | D6: 9090
A7: 1347 | B7: 96159270584 | C7: S.S.DILETTANTISTICA VIRTUS ROMA R.L. | D7: 7832.5
D8: =SUM(D2:D7) -> 41111.5

Sheet File Pagamenti 28
A1: PROGRESSIVO | B1: CODICE FISCALE ASD | C1: NOMINATIVO ASD | D1: Importo complessivo da erogare Tranche del 31.03.2026
A2: 548 | B2: 80433100585 | C2: S.S LAZIO NUOTO S.S.DILETTANTISTICA A.R.L. | D2: 7068
A3: 737 | B3: 1691250565 | C3: A.S.D. FAUL CIMINI VITERBO S.R.L. | D3: 11160
A4: 761 | B4: 4971031002 | C4: A.S.D. VIRTUS MONTEROTONDO BK | D4: 5050
A5: 1088 | B5: 92079730609 | C5: ATLETICO VEROLI A.S.D. | D5: 6930
D6: =SUM(D2:D5) -> 30208

Sheet File Pagamenti 29
A1: PROGRESSIVO | B1: CODICE FISCALE ASD | C1: NOMINATIVO ASD | D1: Importo complessivo da erogare Tranche del 31.03.2026
A2: 526 | B2: 96534980584 | C2: QUADRARO SPORT ROMA | D2: 6200
A3: 609 | B3: 2330490562 | C3: SSD PUROSPORT A.R.L. | D3: 200
A4: 998 | B4: 96313080580 | C4: Associazione Sportiva Dilettantistica Diada Sport | D4: 6095
D5: =SUM(D2:D4) -> 12495

Sheet File Pagamenti 30
A1: PROGRESSIVO | B1: CODICE FISCALE ASD | C1: NOMINATIVO ASD | D1: Importo complessivo da erogare Tranche del 31.12.2025
A2: 1288 | B2: 96539550580 | C2: PINGWINGS SSD | D2: 570
D3: =SUM(D2:D2) -> 570

Sheet File Pagamenti 31
A1: PROGRESSIVO | B1: CODICE FISCALE ASD | C1: NOMINATIVO ASD | D1: Importo complessivo da erogare Tranche del 31.03.2026
A2: 531 | B2: 96460440587 | C2: REAL EMPLOYMENT AND DEVELOPMENT OF SPORT S.S.D. A R.L. | D2: 11925
D3: =+D2 -> 11925

Sheet File Pagamenti 32
A1: PROGRESSIVO | B1: CODICE FISCALE ASD | C1: NOMINATIVO ASD | D1: Importo complessivo da erogare Tranche del 31.03.2026
A2: 704 | B2: 90111500568 | C2: A.S. DILETTANTISTICA SPORT BLERA | D2: 855
A3: 7 | B3: 9136911006 | C3: A.D. NEW NETTUNO BASKET CLUB | D3: 6960
A4: 312 | B4: 97858770585 | C4: BASKET ROMA SOCIETA SPORTIVA DILETTANTISTICA - SOCIETA A RESPONSABILITA LIMITATA | D4: 9920
D5: =SUM(D2:D4) -> 17735

Sheet File Pagamenti 33
A1: PROGRESSIVO | B1: CODICE FISCALE ASD | C1: NOMINATIVO ASD | D1: Importo complessivo da erogare Tranche del 30.06.2026
A2: 1 | B2: 95038790580 | C2: ASSOCIAZIONE SPORTIVA DILETTANTISTICA DANCE IN PROGRESS | D2: 5520
A3: 2 | B3: 11521311008 | C3: Professione Fitness SSD SRL | D3: 3690
A4: 3 | B4: 96426110589 | C4: #2.0 CENTRO AVVIAMENTO DANZA CLASSICA A.S. DILETTANTISTICA | D4: 1020
A5: 4 | B5: 97757010588 | C5: A. artistica didattica c. s. d. laltradanza | D5: 2800
A6: 5 | B6: 1013790595 | C6: A. DIL. BASKET ITRI | D6: 6280
A7: 6 | B7: 92095090608 | C7: A. S. Dilettantistica LC Training | D7: 1800
A8: 7 | B8: 9136911006 | C8: A.D. NEW NETTUNO BASKET CLUB | D8: 6780
A9: 8 | B9: 1358680567 | C9: A.D.P. REAL AZZURRA | D9: 5325
A10: 9 | B10: 90053700598 | C10: A.D.S. S.C. ARCIERI DI SANTO STEFANO | D10: 760
A11: 10 | B11: 7592821008 | C11: A.DIL. ALBANO BASKET CLUB | D11: 3190
A12: 11 | B12: 90056550560 | C12: A.DIL. BASKET PEGASO | D12: 5720
A13: 12 | B13: 3121700607 | C13: A.M.B. FROSINONE C5 | D13: 500
... A573: 676 | B573: 96116370584 | C573: A. Dilettantistica AS Roma Tennistavolo | D573: 700
D574: =SUM(D2:D573) -> 2996892

Sheet File Pagamenti 34
A1: PROGRESSIVO | B1: CODICE FISCALE ASD | C1: NOMINATIVO ASD | D1: Importo complessivo da erogare Tranche del 30.06.2026
A2: 92 | B2: 91109850593 | C2: A.S.Dilettantistica Il Tempio degli Atleti | D2: 4450
A3: 350 | B3: 97854160583 | C3: CESANO | D3: 12180
A4: 399 | B4: 14039201000 | C4: FITNESS SPORTING CLUB 2016 S.S.D. a R.L. | D4: 5800
A5: 677 | B5: 90028250604 | C5: A. S. DILETTANTISTICA ARTE DANZA E VEGLIA SCUOLA TEATRO MANZONI | D5: 3920
A6: 678 | B6: 1597880598 | C6: A. S. DILETTANTISTICA HANDBALL CLUB CASSA RURALE PONTINIA | D6: 2205
A7: 679 | B7: 96456620580 | C7: A.BA.CO ASSOCIAZIONE SPORTIVA DILETTANTISTICA | D7: 1800
A8: 680 | B8: 96104990583 | C8: A.D. BASKET VALSUGANA | D8: 1280
A9: 681 | B9: 2007950591 | C9: A.D. FORTITUDO BASKET CISTERNA | D9: 3680
A10: 682 | B10: 90000380593 | C10: A.D. PALL. G. FABIANI FORMIA | D10: 2880
A11: 683 | B11: 97522810585 | C11: A.D. PALLACANESTRO FORMELLO | D11: 1400
A12: 684 | B12: 97467450587 | C12: A.D. S.S. LAZIO BASKET | D12: 665
A13: 685 | B13: 96105550584 | C13: A.DIL. U.C. BASKET PRIMAVALLE | D13: 6515.5
... A496: 1258 | B496: 97859460582 | C496: MOOVIMENTO A.P.D | D496: 2000
A497: 1259 | B497: 01204220576 | C497: MORE SPORT ASSOCIAZIONE SPORTIVA DILETTANTISTICA | D497: 160
A498: 1262 | B498: 90042540568 | C498: NEW DANCE A.L.B.A. | D498: 880
A499: 1265 | B499: 97960470587 | C499: NEW TEAM RC5 | D499: 8520
A500: 1266 | B500: 97767510585 | C500: NEW WORLD DANCE ASSOCIAZIONE CULTURALE SPORTIVA DILETTANTISTICA | D500: 1360
A501: 1267 | B501: 2557160609 | C501: NUOVA AURORA | D501: 500
A502: 1268 | B502: 8594411004 | C502: NUOVA POLISPORTIVA AGOSTA | D502: 4850
A503: 1269 | B503: 90080820583 | C503: NUOVA POLISPORTIVA CIAMPINO ASD | D503: 640
A504: 1270 | B504: 91061570585 | C504: NUOVA RUGBY ROMA A.S.D | D504: 3294
A505: 1271 | B505: 10797521001 | C505: NUOVO TRULLO 84 JOLLY CLUB SSD | D505: 400
A506: 1272 | B506: 94055910585 | C506: OLIMPIA A.S.DILETTANTISTICA | D506: 120
A507: 1273 | B507: 91070950588 | C507: OLYMPIA | D507: 3200
A508: 1274 | B508: 97479290583 | C508: OLYMPIA SCHERMA ROMA ASSOCIAZIONE SPORTIVA DILETTANTISTICA | D508: 180
A509: 1275 | B509: 97640470585 | C509: OLYMPIC SPORT CENTER EQUITAZIONE SOCIETA SPORTIVA DILETTANTISTICA | D509: 1000
... A670: 1470 | B670: 97152560583 | C670: ASSOCIAZIONE SPORTIVA TENNIS TAVOLO EUREKA | D670: 300
A671: 1472 | B671: 04520861008 | C671: AS DILETTANTISTICA CIRCOLO ANTICO TIRO A VOLO | D671: 1840
A672: 1473 | B672: 96304860586 | C672: POLISPORTIVA DILETTANTISTICA M.S.E. | D672: 70
A673: 1475 | B673: 97764850588 | C673: ASSOCIAZIONE SPORTIVA DILETTANTISTICA CENTRO DI CAPOEIRA SAO SALOMAO ROMA | D673: 420
A674: 1476 | B674: 97941420586 | C674: ASSOCIAZIONE CULTURALE SPORTIVA DILETTANTISTICA YOGANOSTRESS | D674: 160
A675: 1477 | B675: 83005900580 | C675: LEGA NAVALE ITALIANA SEZIONE SANTA MARINELLA | D675: 80
A676: 1479 | B676: 96430540581 | C676: VERY STYLE ASSOCIAZIONE SPORTIVA DILETTANTISTICA | D676: 240
A677: 1480 | B677: 96514950581 | C677: OSTIA WARRIORS ASD - APS | D677: 280
A678: 1481 | B678: 02566250599 | C678: A.S.D. POLISPORTIVA GAETA | D678: 3000
A679: 1482 | B679: 96546350586 | C679: 3A FITNESS A.S.DILETTANTISTICA | D679: 276
A680: 1486 | B680: 14313801004 | C680: TL Fitness SRL Sportiva Dilettantistica | D680: 200
A681: 1488 | B681: 16778831004 | C681: SS DILETTANTISTICA FLUOPADEL ARL | D681: 640
A682: 1489 | B682: 97667970582 | C682: ASSOCIAZIONE SPORTIVA DILETTANTISTICA RAMBLA VERTICAL | D682: 150
...

Sheet File Pagamenti 35
A1: PROGRESSIVO | B1: CODICE FISCALE ASD | C1: NOMINATIVO ASD | D1: Importo complessivo da erogare Tranche del 31.03.2026
A2: 975 | B2: 97878980586 | C2: ASSOCIAZIONE SPORTIVA DILETTANTISTICA ASD MOVEWAY | D2: 750
D3: =SUM(D2:D2) -> 750

Sheet File Pagamenti 36
A1: PROGRESSIVO | B1: CODICE FISCALE ASD | C1: NOMINATIVO ASD | D1: Importo complessivo da erogare Tranche del 31.03.2026
A2: 1107 | B2: 4361181003 | C2: BORGHESIANA | D2: 5500
D3: =SUM(D2:D2) -> 5500

Sheet File Pagamenti 37
A1: PROGRESSIVO | B1: CODICE FISCALE ASD | C1: NOMINATIVO ASD | D1: Importo complessivo da erogare Tranche del 30.06.2026
A2: 437 | B2: 97112200585 | C2: JUVENTUS NUOTO ROMA A.R.L SOCIETA SPORTIVA DILETTANTISTICA | D2: 8742
A3: 531 | B3: 96460440587 | C3: REAL EMPLOYMENT AND DEVELOPMENT OF SPORT S.S.D. A R.L. | D3: 7800
A4: 651 | B4: 5825151003 | C4: VILLA ADRIANA | D4: 8340
D5: =SUM(D2:D4) -> 24882

Sheet File Pagamenti 38
A1: PROGRESSIVO | B1: CODICE FISCALE ASD | C1: NOMINATIVO ASD | D1: Importo complessivo da erogare Tranche del 30.06.2026
A2: 1223 | B2: 16562031001 | C2: IMPACT SELF DEFENCE ASSOCIAZIONE SPORTIVA DILETTANTISTICA | D2: 210
D3: =+D2 -> 210

Sheet File Pagamenti 39
A1: PROGRESSIVO | B1: CODICE FISCALE ASD | C1: NOMINATIVO ASD | D1: Importo complessivo da erogare Tranche del 31.06.2026
A2: 1412 | B2: 11299641008 | C2: SSDILETTANTISTICA OLIMPIA FITNESS CLUB ARL | D2: 4500
A3: 1192 | B3: 11680661003 | C3: Ginnastica Civitavecchia Società Sportiva Dilettantistica A.R.L. | D3: 6880
D4: =SUM(D2:D3) -> 11380

Sheet File Pagamenti 40
A1: PROGRESSIVO | B1: CODICE FISCALE ASD | C1: NOMINATIVO ASD | D1: Importo complessivo da erogare Tranche del 31.06.2026
A2: 548 | B2: 80433100585 | C2: S.S LAZIO NUOTO S.S.DILETTANTISTICA A.R.L. | D2: 7936
D3: =+D2 -> 7936

Sheet File Pagamenti 41
A1: PROGRESSIVO | B1: CODICE FISCALE ASD | C1: NOMINATIVO ASD | D1: Importo complessivo da erogare Tranche del 31.06.2026
A2: 364 | B2: 3117710602 | C2: DANCE LAB Società Sportiva Dilettantistica a r.l. | D2: 2940
A3: 1461 | B3: 4725041000 | C3: VOLLEYBALL SANTA MONICA A.S.DILETTANTISTICA | D3: 10748
D4: =SUM(D2:D3) -> 13688

Sheet File Pagamenti 42
A1: PROGRESSIVO | B1: CODICE FISCALE ASD | C1: NOMINATIVO ASD | D1: Importo complessivo da erogare Tranche del 31.06.2026
A2: 172 | B2: 95040500589 | C2: ASD REAL VIS ARTENA | D2: 3685
A3: 192 | B3: 92000380581 | C3: ASDILETTANTISTICA FRASCATI SCHERMA | D3: 500
A4: 610 | B4: 2082420569 | C4: SSD REAL FABRICA DI ROMA ARL | D4: 875
A5: 1337 | B5: 13993501009 | C5: S.S. Dilettantistica PUNTE & MEZZEPUNTE Srl | D5: 3525
D6: =SUM(D2:D5) -> 8585

Sheet File Pagamenti 43
A1: PROGRESSIVO | B1: CODICE FISCALE ASD | C1: NOMINATIVO ASD | D1: Importo complessivo da erogare Tranche del 31.03.2026
A2: 172 | B2: 95040500589 | C2: ASD REAL VIS ARTENA | D2: 3135
D3: =SUM(D2:D2) -> 3135

Sheet File Pagamenti 44
A1: PROGRESSIVO | B1: CODICE FISCALE ASD | C1: NOMINATIVO ASD | D1: Importo complessivo da erogare Tranche del 30.06.2026
A2: 398 | B2: 3170420602 | C2: FITNESS ACADEMY Società Sportiva Dilettantistica a r.l. | D2: 12550
A3: 518 | B3: 1521980563 | C3: POLISPORTIVA RONCIGLIONE CAPRANICA SOCIETA SPORTIVA DILETTANTISTICA A RESPONSABILITA LIMITATA | D3: 14420
A4: 1342 | B4: 13088471001 | C4: S.S.DILETTANTISTICA ARDEATINA s.r.l. | D4: 450
D5: =SUM(D2:D4) -> 27420

Sheet File Pagamenti 45
A1: PROGRESSIVO | B1: CODICE FISCALE ASD | C1: NOMINATIVO ASD | D1: Importo complessivo da erogare Tranche del 31.03.2026
A2: 1342 | B2: 13088471001 | C2: S.S.DILETTANTISTICA ARDEATINA s.r.l. | D2: 300
D3: =SUM(D2:D2) -> 300

Sheet File Pagamenti 46
A1: PROGRESSIVO | B1: CODICE FISCALE ASD | C1: NOMINATIVO ASD | D1: Importo complessivo da erogare Tranche del 30.06.2026
A2: 1125 | B2: 2506940606 | C2: CIRC. NUOTO SPORTING CLUB CASSINO S.S.D.R.L. | D2: 6012.96
A3: 624 | B3: 14989581005 | C3: SSDILETTANTISTICA THE GYM | D3: 2977.83
D4: =SUM(D2:D3) -> 8990.79
A8: PROGRESSIVO | B8: CODICE FISCALE ASD | C8: NOMINATIVO ASD | D8: Importo complessivo da erogare Tranche del 30.06.2026
A9: 1125 | B9: 2506940606 | C9: CIRC. NUOTO SPORTING CLUB CASSINO S.S.D.R.L. | D9: =+Contributi!F1128-'File Pagamenti 46'!D2 -> 8560.04
D10: =+D9 -> 8560.04

Sheet File Pagamenti 48
A1: PROGRESSIVO | B1: CODICE FISCALE ASD | C1: NOMINATIVO ASD | D1: Importo complessivo da erogare Tranche del 30.06.2026
A2: 79 | B2: 96301750582 | C2: A.S.Dilettantistica Atletico Talenti | D2: 4550
A3: 129 | B3: 2090180569 | C3: ACTIVE SPACE S.S.DILETTANTISTICA SRL | D3: 2950
D4: =SUM(D2:D3) -> 7500

Sheet File Pagamenti 49
A1: PROGRESSIVO | B1: CODICE FISCALE ASD | C1: NOMINATIVO ASD | D1: Importo complessivo da erogare Tranche del 30.06.2026
A2: 168 | B2: 10998561004 | C2: ASD M.R. SPORT DEI FRATELLI MARCONI | D2: 1385
A3: 460 | B3: 13923211000 | C3: Linea Club Società Sportiva Dilettantistica a responsabilità limitata | D3: 3400
A4: 513 | B4: 6794801008 | C4: POLISPORTIVA DE ROSSI ARL | D4: 7448.5
A5: 766 | B5: 90029670586 | C5: A.S.DIL. VIRTUS ARICCIA | D5: 840
A6: 780 | B6: 96541140586 | C6: A.S.DILETTANTISTICA E DI P.S. NIRCHIO SPORT ACADEMY | D6: 2940
D7: =SUM(D2:D6) -> 16013.5

Sheet File Pagamenti 50
A1: PROGRESSIVO | B1: CODICE FISCALE ASD | C1: NOMINATIVO ASD | D1: Importo complessivo da erogare Tranche del 30.06.2026
A2: 31 | B2: 4534971009 | C2: A.S.D. ANZIO BASKET CLUB | D2: 9420
A3: 1203 | B3: 14425071009 | C3: GSPORT S.S.DILETTANTISTICA A R.L. | D3: 4143
A4: 1260 | B4: 96299620581 | C4: MULTIMEDIA 3000 A.S.DILETTANTISTICA E CULTURALE | D4: 3080
D5: =SUM(D2:D4) -> 16643
A8: PROGRESSIVO | B8: CODICE FISCALE ASD | C8: NOMINATIVO ASD | D8: Importo complessivo da erogare Tranche del 30.06.2026
A9: 624 | B9: 14989581005 | C9: SSDILETTANTISTICA THE GYM | D9: =7600-2977.83 -> 4622.17
D10: =SUM(D9) -> 4622.17

Sheet File Pagamenti 52
A1: PROGRESSIVO | B1: CODICE FISCALE ASD | C1: NOMINATIVO ASD | D1: Importo complessivo da erogare Tranche del 31.03.2026
A2: 658 | B2: 90053380599 | C2: VIS FONDI | D2: 7770
D3: =SUM(D2:D2) -> 7770
A6: PROGRESSIVO | B6: CODICE FISCALE ASD | C6: NOMINATIVO ASD | D6: Importo complessivo da erogare Tranche del 30.06.2026
A7: 551 | B7: 907320576 | C7: S.S. PASSO CORESE | D7: 5175
A8: 737 | B8: 1691250565 | C8: A.S.D. FAUL CIMINI VITERBO S.R.L. | D8: 9720
D9: =SUM(D7:D8) -> 14895

Sheet File Pagamenti 53
A2: PROGRESSIVO | B2: CODICE FISCALE ASD | C2: NOMINATIVO ASD | D2: Importo complessivo da erogare Tranche del 30.06.2026
A3: 1180 | B3: 1255450577 | C3: FLEX ZONE S.S.DILETTANTISTICA ARL | D3: 1045
D4: =SUM(D3:D3) -> 1045

Sheet File Pagamenti 54
A2: PROGRESSIVO | B2: CODICE FISCALE ASD | C2: NOMINATIVO ASD | D2: Importo complessivo da erogare Tranche del 30.06.2026
A3: 412 | B3: 10572881000 | C3: GM SPORTING 09 Società Sportiva Dilettantistica arl | D3: 5680
A4: 1070 | B4: 91011640587 | C4: ASSOCIAZIONE SPORTIVA DILETTANTISTICA TENNIS CLUB CIVITAVECCHIA 88 | D4: 1365
D5: =SUM(D3:D4) -> 7045

Sheet File Pagamenti 55
A2: PROGRESSIVO | B2: CODICE FISCALE ASD | C2: NOMINATIVO ASD | D2: Importo complessivo da erogare Tranche del 31.03.2026
A3: 992 | B3: 91122060592 | C3: Associazione Sportiva Dilettantistica Circeo Accademia Di Ginnastica | D3: 1200
D4: =+D3 -> 1200

Sheet File Pagamenti 56
A2: PROGRESSIVO | B2: CODICE FISCALE ASD | C2: NOMINATIVO ASD | D2: Importo complessivo da erogare Tranche del 31.03.2026
A3: 421 | B3: 80006480596 | C3: HERMADA | D3: 7800
D4: =+D3 -> 7800

Sheet File Pagamenti 57
A2: PROGRESSIVO | B2: CODICE FISCALE ASD | C2: NOMINATIVO ASD | D2: Importo complessivo da erogare Tranche del 30.06.2026
A3: 176 | B3: 97942900586 | C3: ASD RUGBY X ROMA 2017 | D3: 1000
D4: =+D3 -> 1000

Sheet File Pagamenti 58
A2: PROGRESSIVO | B2: CODICE FISCALE ASD | C2: NOMINATIVO ASD | D2: Importo complessivo da erogare Tranche del 30.06.2026
A3: 52 | B3: 91148580599 | C3: A.S.D. FLAMY DANCE ESCOLA DEL DANCA E FITNES | D3: 600
D4: =+D3 -> 600

Sheet File Pagamenti 59
A2: PROGRESSIVO | B2: CODICE FISCALE ASD | C2: NOMINATIVO ASD | D2: Importo complessivo da erogare Tranche del 31.03.2026
A3: 1503 | B3: 97012830580 | C3: ASSOCIAZIONE SPORTIVA DILETTANTISTICA CENTRO VELICO 3V VELA VENTO VIA | D3: 490
D4: =+D3 -> 490

Sheet Pagamenti 60
A1: PROGRESSIVO | B1: CODICE FISCALE ASD | C1: NOMINATIVO ASD | D1: Importo complessivo da erogare Tranche del 30.06.2026
A2: 910 | B2: 97896520588 | C2: ASD O.BALLET | D2: 5520
A3: 1107 | B3: 4361181003 | C3: BORGHESIANA | D3: 1645.18
A4: 1400 | B4: 8491680586 | C4: SS DILETTANTISTICA OLIMPIA 1 ARL | D4: 975
D5: =SUM(D2:D4) -> 8140.18
A7: PROGRESSIVO | B7: CODICE FISCALE ASD | C7: NOMINATIVO ASD | D7: Importo complessivo da erogare Tranche del 30.06.2026
A8: 1107 | B8: 4361181003 | C8: BORGHESIANA | D8: 4454.82
D9: =+D8 -> 4454.82

Sheet Pagamenti 62
A1: PROGRESSIVO | B1: CODICE FISCALE ASD | C1: NOMINATIVO ASD | D1: Importo complessivo da erogare Tranche del 31.03.2026
A2: 1079 | B2: 1960140562 | C2: ASSOCIAZIONE SPORTIVA DILETTANTISTICA VOLLEY VITERBO | D2: 2200
D3: =+D2 -> 2200
A5: PROGRESSIVO | B5: CODICE FISCALE ASD | C5: NOMINATIVO ASD | D5: Importo complessivo da erogare Tranche del 30.06.2026
A6: 1079 | B6: 1960140562 | C6: ASSOCIAZIONE SPORTIVA DILETTANTISTICA VOLLEY VITERBO | D6: 1280
D7: =+D6 -> 1280

Sheet Dettaglio pagamenti (14)
A1: ente | B1: enteCF | C1: iban | D1: importoDaPagare | E1: Check
A2: A.S.D. NEW ERA ACCADEMY | B2: 97700800580 | C2: IT95Q0832703240000000005085 | D2: 6060 | E2: =VLOOKUP(B2,Contributi!$A$4:$A$1506,1,0) -> 97700800580
A3: ASSOCIAZIONE SPORTIVA DILETTANTISTICA TAEKWONDO OSTIA ACADEMY | B3: 96603470582 | C3: IT59I0326822300052212668530 | D3: 935 | E3: =VLOOKUP(B3,Contributi!$A$4:$A$1506,1,0) -> 96603470582
A4: MINERVA FITNESS SSD ARL | B4: 17634201002 | C4: IT46H0344022000000000327300 | D4: 396 | E4: =VLOOKUP(B4,Contributi!$A$4:$A$1506,1,0) -> 17634201002
A5: S.S.D. VIRTUS MARINA DI SAN NICOLA A R.L., IN FORMA ABBREVIATA S .S.D. VIRTUS M.S.N. A R.L. | B5: 12679321005 | C5: IT96O0832739530000000000152 | D5: 2508 | E5: =VLOOKUP(B5,Contributi!$A$4:$A$1506,1,0) -> 12679321005
A6: ASD K GYM | B6: 94085370586 | C6: IT27X0344039240000000252300 | D6: 3355 | E6: =VLOOKUP(B6,Contributi!$A$4:$A$1506,1,0) -> 94085370586
A7: A.S.D. NEO TENNIS CLUB LUX | B7: 1203960560 | C7: IT73W0200814502000004337771 | D7: 900 | E7: =VLOOKUP(B7,Contributi!$A$4:$A$1506,1,0) -> #N/A
A8: SOCIETA SPORTIVA DILETTANTISTICA ROMA CALCIO FEMMINILE S.R.L. IN BREVE DENOMINATA ANCHE S.S.D. ROMA CALCIO FEMMINILE S.R.L. | B8: 12014561000 | C8: IT53Z0832703268000000002179 | D8: 6435 | E8: =VLOOKUP(B8,Contributi!$A$4:$A$1506,1,0) -> 12014561000
A9: ASSOCIAZIONE SPORTIVA DILETTANTISTICA DOPOLAVORO FOOTBALL CLUB | B9: 16319651002 | C9: IT58O0832739040000000007585 | D9: 6420 | E9: =VLOOKUP(B9,Contributi!$A$4:$A$1506,1,0) -> 16319651002
A10: INDIVIDUAL SOCCER PROJECT A.S.D. | B10: 96451210585 | C10: IT93A0200822006000105911798 | D10: 500 | E10: =VLOOKUP(B10,Contributi!$A$4:$A$1506,1,0) -> 96451210585
A11: DANZARMONIA ACADEMY SOCIETA SPORTIVA DILETTANTISTICA A RESPONSABILITA LIMITATA | B11: 17262191004 | C11: IT09K0832703232000000004273 | D11: 1440 | E11: =VLOOKUP(B11,Contributi!$A$4:$A$1506,1,0) -> 17262191004
A12: A.S.D. LIBERA VOLLEY | B12: 91073350588 | C12: IT12N0832739530000000005569 | D12: 1400 | E12: =VLOOKUP(B12,Contributi!$A$4:$A$1506,1,0) -> 91073350588
A13: ASSOCIAZIONE SPORTIVA DILETTANTISTICA SCUOLA BASKET FROSINONE | B13: 92028260609 | C13: IT18A0537214800000010720605 | D13: 4600 | E13: =VLOOKUP(B13,Contributi!$A$4:$A$1506,1,0) -> 92028260609
... A279: ASD GRUPPO SPORTIVO ITALIANO | B279: 2284520596 | C279: IT61D0832714703000000051344 | D279: 4500 | E279: =VLOOKUP(B279,Contributi!$A$4:$A$1506,1,0) -> 2284520596
A280: TENNIS CLUB SARDEGNA ASSOCIAZIONE SPORTIVA DILETTANTISTICA | B280: 1588820595 | C280: IT73K0344174160CC0200526184 | D280: 840 | E280: =VLOOKUP(B280,Contributi!$A$4:$A$1506,1,0) -> #N/A | F280: Lasciamola in standby in quanto ha chiuso l'ASD e stiamo capendo se possiamo pagarla
A281: ASSOCIAZIONE SPORTIVA DILETTANTISTICA FRASCATI SCHERMA | B281: 92000380581 | C281: IT34O0344139100CC0180000270 | D281: 2000 | E281: =VLOOKUP(B281,Contributi!$A$4:$A$1506,1,0) -> 92000380581
A282: ASSOCIAZIONE SPORTIVA DILETTANTISTICA GINNASTICA VALMONTONE | B282: 95003350584 | C282: IT43T0510439480CC0070522906 | D282: 13350 | E282: =VLOOKUP(B282,Contributi!$A$4:$A$1506,1,0) -> 95003350584
A283: A.S.D. & C. ART MAISON ACCADEMY | B283: 95099660656 | C283: IT30Z0701774110000000046699 | D283: 1320 | E283: =VLOOKUP(B283,Contributi!$A$4:$A$1506,1,0) -> 95099660656
A284: CITY FITNESS ROMA ASSOCIAZIONE SPORTIVA DILETTANTISTICA | B284: 97803510581 | C284: IT69I0832703250000000001664 | D284: 300 | E284: =VLOOKUP(B284,Contributi!$A$4:$A$1506,1,0) -> 97803510581
A285: ASSOCIAZIONE SPORTIVA DILETTANTISTICA KICKBOXING ACADEMY ROMA | B285: 96578230581 | C285: IT46S3609201600792537020105 | D285: 825 | E285: =VLOOKUP(B285,Contributi!$A$4:$A$1506,1,0) -> 96578230581
A286: A.S.DILETTANTISTICA DON BOSCO COLOSSEO | B286: 90034910605 | C286: IT30K0537274373000010777589 | D286: 3900 | E286: =VLOOKUP(B286,Contributi!$A$4:$A$1506,1,0) -> 90034910605
A287: ASSOCIAZIONE SPORTIVA DILETTANTISTICA FUKURO ROMA | B287: 97624140584 | C287: IT49U0832703267000000000583 | D287: 3000 | E287: =VLOOKUP(B287,Contributi!$A$4:$A$1506,1,0) -> 97624140584
A288: ASD INTEAM LATINA | B288: 91170500598 | C288: IT85N0832714703000000049401 | D288: 4500 | E288: =VLOOKUP(B288,Contributi!$A$4:$A$1506,1,0) -> 91170500598
A289: ASSOCIAZIONE SPORTIVA DILETTANTISTICA POLISPORTIVA ROMA 11 | B289: 97017350584 | C289: IT02M0307502200CC8500909316 | D289: 1670 | E289: =VLOOKUP(B289,Contributi!$A$4:$A$1506,1,0) -> 97017350584
A290: A.S.Dilettantistica VALLEPIANA GUEST RANCH | B290: 90042220609 | C290: IT72C0103074541000001491164 | D290: 1050 | E290: =VLOOKUP(B290,Contributi!$A$4:$A$1506,1,0) -> 90042220609
A291: SPORTING NUOTO LAURENTINO SOCIETA SPORTIVA DILETTANTISTICA A RES PONSABILITA LIMITATA - SSD, IN BREVE S.N. LAURENTINO S.S.D. A R. L. | B291: 16819521002 | C291: IT64H0569603210000006836X37 | D291: 5760 | E291: =VLOOKUP(B291,Contributi!$A$4:$A$1506,1,0) -> 16819521002
A292: A.S.D. LUPATELLI TENNIS ACCADEMY | B292: 10042361005 | C292: IT10F0538738890000003327342 | D292: 2610 | E292: =VLOOKUP(B292,Contributi!$A$4:$A$1506,1,0) -> 10042361005
... A1399: CSAIN VELOCEMENTE ACADEMY ASSOCIAZIONE SPORTIVA DILETTANTISTICA | B1399: 14568361001 | C1399: IT97M0503403242000000001173 | D1399: 2121.5 | E1399: =VLOOKUP(B1399,Contributi!$A$4:$A$1506,1,0) -> 14568361001
D1400: =SUM(D2:D1399) -> 5805227.3

Sheet Importi Verifiche Equitalia
A1: Voucher Lazio - Erogazione Contributi ASD
A3: PROGRESSIVO | B3: CODICE FISCALE ASD | C3: NOMINATIVO ASD | D3: Ottenimento DURC I Tranche | E3: Scadenza DURC | F3: Ottenimento Verifica Equitalia | G3: Importo complessivo da erogare Tranche del 30.09.2025 | H3: Importo complessivo da erogare Tranche del 31.12.2025
A4: 664 | B4: 15509201008 | C4: WELLNESS VILLAGE 2019 S.S.D. a R.L. | D4: r | E4: Irregolare | H4: 31000
A5: 1225 | B5: 96451210585 | C5: INDIVIDUAL SOCCER PROJECT A.S. DILETTANTISTICA | D5: a | E5: Non effettuabile | H5: 30000
A6: 720 | B6: 97976200580 | C6: A.S.D. ATLETICA TOR TRE TESTE | D6: a | E6: 46032 | H6: 28600
A7: 77 | B7: 91101630597 | C7: A.S.Dilettantistica ANXUR - TERRACINA | D7: a | E7: 46046 | H7: 28560
A8: 405 | B8: 8411210589 | C8: FORUM SPORT CENTER SSD SRL | D8: a | E8: 46000 | H8: 27887.71
A9: 406 | B9: 13442191006 | C9: FRASCATI RUGBY CLUB 1949 SSD ARL | D9: a | E9: Non effettuabile | H9: 26500
A10: 1193 | B10: 95038760583 | C10: Ginnastica Res Novae Associazione Sportiva Dilettantistica | D10: a | E10: 46079 | H10: 25200
A11: 192 | B11: 92000380581 | C11: ASDILETTANTISTICA FRASCATI SCHERMA | D11: a | E11: 46112 | H11: 25000
A12: 303 | B12: 95051280584 | C12: ATLETICO LARIANO | D12: a | E12: Non effettuabile | H12: 23500
A13: 618 | B13: 14901351008 | C13: SSDILETTANTISTICA PHYSICAL VILLAGE ROMA | D13: a | E13: 45911 | F13: a | G13: 7638 | H13: 22679
A14: 1334 | B14: 97576660589 | C14: RUGBY ROMA OLIMPIC CLUB 1930 ASD | D14: a | E14: 46080 | H14: 22500
A15: 868 | B15: 97385840588 | C15: AS DILETTANTISTICA VOLLEY ANGUILLARA | D15: a | E15: Non effettuabile | H15: 20500
A16: 482 | B16: 3122820602 | C16: NUOVA BROCCOSTELLA | D16: a | E16: Non effettuabile | H16: 19000
A17: 642 | B17: 6204131004 | C17: UNIONE RUGBY CAPITOLINA ASD | D17: a | E17: 45993 | H17: 19000
A18: 721 | B18: 97061180580 | C18: A.S.D. AURELIO S.G. | D18: a | E18: 46056 | H18: 18500
A19: 542 | B19: 11073281005 | C19: ROMAN SPORT CITY Società Sportiva Dilettantistica a r.l. | D19: a | E19: 45994 | F19: N/A | G19: 498 | H19: 18495
A20: 505 | B20: 94079720580 | C20: PALOMBARA | D20: a | E20: Non effettuabile | H20: 17500
A21: 647 | B21: 12514071005 | C21: Valeas S.S.Dilettantistica ar.l. | D21: a | E21: 46023 | H21: 16795
A22: 571 | B22: 9879941004 | C22: SANTA LUCIA CALCIO | D22: a | E22: Non effettuabile | H22: 16500
A23: 431 | B23: 14729591009 | C23: JEM S SOCCER ACADEMY ARL | D23: a | E23: 46023 | H23: 16000
A24: 1119 | B24: 97759540582 | C24: CDP LA FENICE PALLAVOLO ASSOCIAZIONE SPORTIVA DILETTANTISTICA | D24: a | E24: 46079 | H24: 16000
A25: 298 | B25: 12533071002 | C25: ATHENA SPORTING CLUB SSDarl | D25: a | E25: 46106 | H25: 15635
A26: 199 | B26: 92008670603 | C26: ASDILETTANTISTICA PARK CLUB | D26: a | E26: 46017 | H26: 15300
A27: 1423 | B27: 97810490587 | C27: SVS ROMA | D27: a | E27: 46042 | H27: 14800
A28: 1141 | B28: 90002110600 | C28: CUS CASSINO ASD | D28: a | E28: 46078 | H28: 14400
A29: 409 | B29: 4167921008 | C29: G.S.D.BASKET TORVAIANICA | D29: a | E29: Non effettuabile | H29: 14065
A30: 179 | B30: 90061870581 | C30: ASD SPORTING PAVONA | D30: a | E30: Non effettuabile | H30: 13920
A31: 314 | B31: 2882580604 | C31: BELLATOR FRUSINO S.S.DILETTANTISTICA a.r.l. | D31: a | E31: 45945 | F31: N/A | G31: 250 | H31: 13795
A32: 619 | B32: 3054230598 | C32: SSDILETTANTISTICA POLISPORTIVA XXV PONTI | D32: a | E32: 45996 | H32: 13745
A33: 1421 | B33: 17754921009 | C33: SUPERNOVA FIUMICINO ASD | D33: a | E33: 46081 | H33: 13500
A34: 596 | B34: 1671620605 | C34: SPORTFLY SOC.SPORTIVA DILETT. ARL | D34: a | E34: 46023 | H34: 13380
A35: 370 | B35: 14326181006 | C35: DREAMING FOOTBALL ACADEMY | D35: a | E35: Non effettuabile | H35: 13140
A36: 963 | B36: 5074210583 | C36: Associazione Sportiva Dilettantistica ROMA 12 | D36: a | E36: 46058 | H36: 13080
A37: 155 | B37: 91106800591 | C37: ASD AQUARIA | D37: a | E37: 46022 | H37: 12500
A38: 549 | B38: 97061650582 | C38: S.S. DILETTANTISTICA IPPOCAMPO | D38: a | E38: 46072 | H38: 12264.75
A39: 382 | B39: 12856641001 | C39: Eschilo 2 Sport In Progress S.S.Dilettantistica A R.L. | D39: a | E39: 45976 | F39: N/A | G39: 470 | H39: 12095
A40: 1108 | B40: 96424470589 | C40: BORGO PALIDORO | D40: a | E40: Non effettuabile | H40: 12000
A41: 808 | B41: 97480650585 | C41: A.S.DILETTANTISTICA PATT.ART.DIVINO AMORE INSIEME | D41: a | E41: Non effettuabile | H41: 11500
...

Sheet Dettaglio pagamenti
A1: ASD/SSD/ETS | B1: CF ASD/SSD/ETS | C1: IBAN | D1: importoDaPagare
A2: A.S. DILETTANTISTICA POLISPORTIVA CENTRO GIANO | B2: 96098890583 | C2: IT79V0200805153000400714324 | D2: 1508
A3: MARINO PALLAVOLO ASD | B3: 4397611007 | C3: IT62X0103039551000001410317 | D3: 3410
A4: ASSOCIAZIONE SPORTIVA DILETTANTISTICA ROMA 1927 FUTSAL | B4: 97735090587 | C4: IT95W0306905077100000014429 | D4: 656
A5: ACCADEMIA PUGILISTICA LEONE ASSOCIAZIONE SPORTIVA DILETTANTISTICA | B5: 91169900593 | C5: IT51S0760114700001064763400 | D5: 2450
A6: ROMA TEAM UP S.S.D. A.R.L. | B6: 97608020588 | C6: IT90B0200805013000401432442 | D6: 5800
A7: ASSOCIAZIONE SPORTIVA DILETTANTISTICA ACADEMY SVS ROMA | B7: 90128790566 | C7: IT57Y0569603215000005562X29 | D7: 2200
A8: ASDILETTANTISTICA FREEDOM | B8: 12854711004 | C8: IT56C0200839301000103198941 | D8: 680
A9: A.S.D. VIRTUS BASKET PONTINIA | B9: 91144660593 | C9: IT75L0832774060000000037177 | D9: 1320
A10: TERRACINA RUGBY CLUB ASSOCIAZIONE SPORTIVA | B10: 91119770591 | C10: IT38F0832774160000000027270 | D10: 150
A11: G.S.T. A.S.D | B11: 96466230586 | C11: IT42V0200805183000106059112 | D11: 1600
A12: UNIVERSAL LATINOS A.S.D. | B12: 97759170588 | C12: IT72E0832749632000000001783 | D12: 400
A13: A.S.D. BASKET CITTA DI LADISPOLI | B13: 6749841000 | C13: IT30W0832739530000000000267 | D13: 5100
... A1284: G.S.DIL. BASKET TORVAIANICA | B1284: 4167921008 | C1284: IT29O0538722002000001064556 | D1284: 14065
